BEGIN:VCALENDAR
VERSION:2.0
PRODID:-//bfuclub - ECPv6.15.19//NONSGML v1.0//EN
CALSCALE:GREGORIAN
METHOD:PUBLISH
X-WR-CALNAME:bfuclub
X-ORIGINAL-URL:https://members.bfuclub.com
X-WR-CALDESC:Events for bfuclub
REFRESH-INTERVAL;VALUE=DURATION:PT1H
X-Robots-Tag:noindex
X-PUBLISHED-TTL:PT1H
BEGIN:VTIMEZONE
TZID:America/Indiana/Petersburg
BEGIN:DAYLIGHT
TZOFFSETFROM:-0500
TZOFFSETTO:-0400
TZNAME:EDT
DTSTART:20250309T070000
END:DAYLIGHT
BEGIN:STANDARD
TZOFFSETFROM:-0400
TZOFFSETTO:-0500
TZNAME:EST
DTSTART:20251102T060000
END:STANDARD
BEGIN:DAYLIGHT
TZOFFSETFROM:-0500
TZOFFSETTO:-0400
TZNAME:EDT
DTSTART:20260308T070000
END:DAYLIGHT
BEGIN:STANDARD
TZOFFSETFROM:-0400
TZOFFSETTO:-0500
TZNAME:EST
DTSTART:20261101T060000
END:STANDARD
BEGIN:DAYLIGHT
TZOFFSETFROM:-0500
TZOFFSETTO:-0400
TZNAME:EDT
DTSTART:20270314T070000
END:DAYLIGHT
BEGIN:STANDARD
TZOFFSETFROM:-0400
TZOFFSETTO:-0500
TZNAME:EST
DTSTART:20271107T060000
END:STANDARD
END:VTIMEZONE
BEGIN:VEVENT
DTSTART;TZID=America/Indiana/Petersburg:20260422T190000
DTEND;TZID=America/Indiana/Petersburg:20260422T203000
DTSTAMP:20260420T171954
CREATED:20260414T142147Z
LAST-MODIFIED:20260416T131947Z
UID:923-1776884400-1776889800@members.bfuclub.com
SUMMARY:Tapping into your SuperNatural Powers
DESCRIPTION:Proverbs 23:7 states what you really believe about yourself and your life is reflected in the attitude you display each day\, internally and externally as you conduct your daily activities. \nConstantly feeding one’s ego can lead to turmoil and frustration as a person experiences the ups and downs of life. Over time\, this emotional cycle can drain a person’s energy and negatively affect their overall strength and health. \nThis TRUE REALITY is the POWER\, WISDOM and PRESENCE of the GOD-MIND OF THE UNIVERSE within each of us. There can be nothing more powerful than the use of an absolute frame of reference up on which to build faith for a positive attitude.
URL:https://members.bfuclub.com/event/tapping-into-your-supernatural-powers/
LOCATION:Online
END:VEVENT
BEGIN:VEVENT
DTSTART;TZID=America/Indiana/Petersburg:20260429T190000
DTEND;TZID=America/Indiana/Petersburg:20260429T203000
DTSTAMP:20260420T171954
CREATED:20260414T142631Z
LAST-MODIFIED:20260416T132034Z
UID:926-1777489200-1777494600@members.bfuclub.com
SUMMARY:Principals in Winning at  The Game of Life
DESCRIPTION:Winning at the game of life reveals that God’s perfection is always within us\, and that true success is the manifestation of the Inner Power we already possess. \nWinning in life is never the result of one perfect moment\, it’s built on many failures\, and ones attitude who refuses to quit\, learning and growing stronger with every setback they have faced. \nEach attempt sharpens your skill\, fuels your hunger\, and brings you closer to victory. Driven by the greatness already within you\, allows you to keep pushing forward until success is no longer a dream\, it becomes your reality. \nThe truth within us takes form in the physical world\, expressing itself through our lives and experiences. In the Bible\, John 1:14 declares\, “The Word was made Flesh\,” revealing the profound idea that Divine Truth becomes Living Reality. \nIt is the Higher Power of our true nature manifesting itself; spirit becoming life\, and the Divine within us unfolding into tangible expression.
URL:https://members.bfuclub.com/event/principals-in-winning-at-the-game-of-life/
LOCATION:Bfuclub\, IN\, 34532\, United States
END:VEVENT
BEGIN:VEVENT
DTSTART;TZID=America/Indiana/Petersburg:20260501T190000
DTEND;TZID=America/Indiana/Petersburg:20260501T200000
DTSTAMP:20260420T171954
CREATED:20260413T175036Z
LAST-MODIFIED:20260416T132729Z
UID:874-1777662000-1777665600@members.bfuclub.com
SUMMARY:New Moon in Scorpio
DESCRIPTION:This New Moon in Scorpio carries deep\, transformative energy\, illuminating the hidden layers of your emotions\, desires\, and inner truth. \nScorpio is the sign of intensity\, rebirth\, and emotional depth it calls you to go beneath the surface and confront what is real\, not just what is comfortable. This lunation asks you to focus on honesty with yourself\, emotional healing\, and reclaiming your power where you may have given it away. \nIt invites you to release control\, fear of vulnerability\, past wounds\, and attachments that keep you stuck in cycles that no longer serve you. \nThis moon in  Scorpio means embracing transformation shedding old skins\, allowing parts of yourself to end trusting the process of renewal\, so something more aligned can rise while stepping into a more empowered\, authentic version of yourself..
URL:https://members.bfuclub.com/event/full-moon-in-scorpio/
LOCATION:PreRecorded
END:VEVENT
BEGIN:VEVENT
DTSTART;TZID=America/Indiana/Petersburg:20260504T190000
DTEND;TZID=America/Indiana/Petersburg:20260504T203000
DTSTAMP:20260420T171954
CREATED:20260414T144930Z
LAST-MODIFIED:20260414T144930Z
UID:936-1777921200-1777926600@members.bfuclub.com
SUMMARY:Jesus Talks..
DESCRIPTION:Visualize sitting on Mount Sinai getting the word from the wisest man alive that answers to many names\, today we will call him\, Jesus. \nThere is so much beauty in scripture that you can use to guide you through your own life\, regardless of what you are experiencing in life. Once you realize the authority you have in this world to achieve and attain whatever you can prophesy over you\, your life will be the same until you surrender and it will change instantly. \nIt’s the ego that needs work on.\nWhen you understand your Self-Worth in the EYE of the Creator Within You\, you’ll look at your life differently. \nPure ALIGNMENT\, no hustle\, no bustle..
URL:https://members.bfuclub.com/event/jesus-talks/
LOCATION:Online
END:VEVENT
BEGIN:VEVENT
DTSTART;TZID=America/Indiana/Petersburg:20260506T190000
DTEND;TZID=America/Indiana/Petersburg:20260506T203000
DTSTAMP:20260420T171954
CREATED:20260414T143606Z
LAST-MODIFIED:20260416T132213Z
UID:928-1778094000-1778099400@members.bfuclub.com
SUMMARY:Establishing Kingdom Heiress Mystical Self-Direction
DESCRIPTION:When tuned into the Higher God Mind Self\, Universal Power\, we are intuitively guided to rely on that  Self -Direction from a Higher Self\, rather than trying to analyze every possible course of action as in our modern society\, where we are taught to be analytical. \nIn scripture it speaks about “Not having two masters” so the choice is yours! You may go along with the majority of living a life of  chaos or be guided by an inner wisdom to a fulfillment in life\, through the Presence of the All Knowing Mind of God within you!
URL:https://members.bfuclub.com/event/establishing-kingdom-heiress-mystical-self-direction/
LOCATION:Online
END:VEVENT
BEGIN:VEVENT
DTSTART;TZID=America/Indiana/Petersburg:20260513T190000
DTEND;TZID=America/Indiana/Petersburg:20260513T203000
DTSTAMP:20260420T171954
CREATED:20260414T143833Z
LAST-MODIFIED:20260416T132317Z
UID:932-1778698800-1778704200@members.bfuclub.com
SUMMARY:Kingdom Mind Magnetism
DESCRIPTION:Romans 13:8 Let no debt remain outstanding\, except the continuing debt to love one another\, for whoever loves others has fulfilled the law.
URL:https://members.bfuclub.com/event/kingdom-mind-magnetism/
LOCATION:Online
END:VEVENT
BEGIN:VEVENT
DTSTART;TZID=America/Indiana/Petersburg:20260516T190000
DTEND;TZID=America/Indiana/Petersburg:20260516T200000
DTSTAMP:20260420T171954
CREATED:20260413T180516Z
LAST-MODIFIED:20260413T180516Z
UID:897-1778958000-1778961600@members.bfuclub.com
SUMMARY:Super New Moon in Taurus
DESCRIPTION:The Super New Moon in Taurus  anchors a powerful new beginning centered on stability\, self-worth\, and the physical reality you are building. \nTaurus energy is grounded\, sensual\, and intentional inviting you to focus on what truly brings you peace\, security\, and lasting value. \nThis is a potent time to set intentions around finances\, routines\, and creating a life that feels both abundant and aligned. It asks you to release scarcity mindsets\, over-attachment to comfort that limits growth\, and any beliefs that disconnect you from your inherent worth. \nAs a Super New Moon\, its energy is amplified\, calling for an expansion in consciousness around receiving\, patience\, and trusting the slow\, steady unfolding of what is meant for you. \nThis is about rooting deeper into what you deserve and allowing your life to grow from a place of grounded confidence and inner security.
URL:https://members.bfuclub.com/event/super-new-moon-in-taurus/
LOCATION:PreRecorded
END:VEVENT
BEGIN:VEVENT
DTSTART;TZID=America/Indiana/Petersburg:20260520T190000
DTEND;TZID=America/Indiana/Petersburg:20260520T203000
DTSTAMP:20260420T171954
CREATED:20260414T144038Z
LAST-MODIFIED:20260416T132351Z
UID:934-1779303600-1779309000@members.bfuclub.com
SUMMARY:Guest Speaker
DESCRIPTION:Guest Speaker to be determined…
URL:https://members.bfuclub.com/event/guest-speaker/
LOCATION:Online
END:VEVENT
BEGIN:VEVENT
DTSTART;TZID=America/Indiana/Petersburg:20260525T190000
DTEND;TZID=America/Indiana/Petersburg:20260525T203000
DTSTAMP:20260420T171954
CREATED:20260414T145101Z
LAST-MODIFIED:20260414T145154Z
UID:939-1779735600-1779741000@members.bfuclub.com
SUMMARY:Jesus Talks...
DESCRIPTION:TALK TO BE DETERMINED!
URL:https://members.bfuclub.com/event/jesus-talks-2/
LOCATION:Online
END:VEVENT
BEGIN:VEVENT
DTSTART;TZID=America/Indiana/Petersburg:20260527T190000
DTEND;TZID=America/Indiana/Petersburg:20260527T203000
DTSTAMP:20260420T171954
CREATED:20260414T150404Z
LAST-MODIFIED:20260416T132434Z
UID:943-1779908400-1779913800@members.bfuclub.com
SUMMARY:8wk ReCap
DESCRIPTION:8wk ReCap – what has shifed for you in the last 8 weeks.\nBe prepared to receive additional ways to elevate your God Mind Self.\nYou don’t need to look for perfection\, it’s about progression!\nWhen you put work in changing your life\, life changes for you better than you can imagine..
URL:https://members.bfuclub.com/event/8wk-recap/
LOCATION:Online
END:VEVENT
BEGIN:VEVENT
DTSTART;TZID=America/Indiana/Petersburg:20260531T190000
DTEND;TZID=America/Indiana/Petersburg:20260531T200000
DTSTAMP:20260420T171954
CREATED:20260413T175729Z
LAST-MODIFIED:20260413T175729Z
UID:876-1780254000-1780257600@members.bfuclub.com
SUMMARY:Full Moon in Sagittarius
DESCRIPTION:The Full Moon in Sagittarius expands your awareness\, shining a light on truth\, purpose\, and the bigger picture of your life. \nThis fiery\, freedom-seeking energy calls you to focus on growth\, perspective\, and aligning with what truly inspires your spirit. \nIt encourages you to seek higher wisdom\, trust your inner guidance\, and take bold steps toward what feels meaningful and expansive. \nAt the same time\, it asks you to release limiting beliefs\, outdated narratives\, and any fear that keeps you playing small or stuck in narrow thinking. \nThis Full Moon is centered on truth and liberation inviting you to break free from mental and spiritual confinement\, embrace possibility\, and move forward with faith\, clarity\, and a renewed sense of purpose.
URL:https://members.bfuclub.com/event/full-moon-in-sagittarius/
LOCATION:PreRecorded
END:VEVENT
BEGIN:VEVENT
DTSTART;TZID=America/Indiana/Petersburg:20260603T190000
DTEND;TZID=America/Indiana/Petersburg:20260603T203000
DTSTAMP:20260420T171954
CREATED:20260414T151638Z
LAST-MODIFIED:20260414T151638Z
UID:947-1780513200-1780518600@members.bfuclub.com
SUMMARY:Eliminating the Negative to Strengthen the Positive
DESCRIPTION:“Whatever is true\, whatever is noble\, whatever is right\, whatever is pure… think about such things.”  Philippians 4:8  \n“Take captive every thought to make it obedient to Christ.” 2 Corinthians 10:5 \nEliminate negative thought patterns by intentionally filling your mind with what is uplifting and aligned with God. Negative thinking must be confronted and transformed—your mind is a battlefield\, and you have authority over it.
URL:https://members.bfuclub.com/event/eliminating-the-negative-to-strengthen-the-positive/
LOCATION:Online
END:VEVENT
BEGIN:VEVENT
DTSTART;TZID=America/Indiana/Petersburg:20260608T190000
DTEND;TZID=America/Indiana/Petersburg:20260608T203000
DTSTAMP:20260420T171954
CREATED:20260414T153103Z
LAST-MODIFIED:20260414T153103Z
UID:951-1780945200-1780950600@members.bfuclub.com
SUMMARY:Jesus Talk....
DESCRIPTION:TBD…. Lets us know what you would like to dive into…
URL:https://members.bfuclub.com/event/jesus-talk/
LOCATION:Online
END:VEVENT
BEGIN:VEVENT
DTSTART;TZID=America/Indiana/Petersburg:20260610T190000
DTEND;TZID=America/Indiana/Petersburg:20260610T203000
DTSTAMP:20260420T171954
CREATED:20260414T151124Z
LAST-MODIFIED:20260416T133026Z
UID:945-1781118000-1781123400@members.bfuclub.com
SUMMARY:God In Action\, Not Stagnacy
DESCRIPTION:1 Corinthians 20 For the kingdom of God is not a matter of talk\, but of power.
URL:https://members.bfuclub.com/event/god-in-action-not-stagnacy/
LOCATION:Online
END:VEVENT
BEGIN:VEVENT
DTSTART;TZID=America/Indiana/Petersburg:20260614T190000
DTEND;TZID=America/Indiana/Petersburg:20260614T200000
DTSTAMP:20260420T171954
CREATED:20260413T182111Z
LAST-MODIFIED:20260413T182333Z
UID:901-1781463600-1781467200@members.bfuclub.com
SUMMARY:Super New Moon in Gemini
DESCRIPTION:The Super New Moon in Gemini brings a fresh\, mentally stimulating energy centered on communication\, ideas\, and new perspectives. \nGemini\, the sign of curiosity and connection\, invites you to focus on how you think\, speak\, and engage with the world around you making it a powerful time to set intentions around learning\, expressing yourself\, and forming meaningful connections. \nThis lunation encourages you to embrace clarity\, adaptability\, and open-mindedness while exploring new possibilities. At the same time\, it asks you to release overthinking\, scattered energy\, gossip\, and limiting thought patterns that keep you stuck in confusion or indecision. \nThis Super New Moon is focused on mental renewal and aligned expression guiding you to refine your voice\, shift your mindset\, and consciously choose thoughts and conversations that support your growth and direction forward.
URL:https://members.bfuclub.com/event/new-moon-in-gemini/
LOCATION:PreRecorded
END:VEVENT
BEGIN:VEVENT
DTSTART;TZID=America/Indiana/Petersburg:20260617T190000
DTEND;TZID=America/Indiana/Petersburg:20260617T203000
DTSTAMP:20260420T171954
CREATED:20260414T152135Z
LAST-MODIFIED:20260416T133301Z
UID:949-1781722800-1781728200@members.bfuclub.com
SUMMARY:How to Handle Problems as they Arise
DESCRIPTION:“Do not be anxious about anything… present your requests to God… and the peace of God… will guard your hearts and minds.” Philippians 4:6–7 \n“Do not fear\, for I am with you… I will strengthen you and help you.” Isaiah 41:10 \nReplace anxiety with prayer and gratitude immediately. You are not alone in the problem—lean into God’s strength\, not your own.
URL:https://members.bfuclub.com/event/how-to-handle-problems-as-they-arise/
LOCATION:Online
END:VEVENT
BEGIN:VEVENT
DTSTART;TZID=America/Indiana/Petersburg:20260621T120000
DTEND;TZID=America/Indiana/Petersburg:20260621T130000
DTSTAMP:20260420T171954
CREATED:20260413T182846Z
LAST-MODIFIED:20260413T182846Z
UID:905-1782043200-1782046800@members.bfuclub.com
SUMMARY:The Summer Solstice
DESCRIPTION:The Summer Solstice  marks a powerful turning point the longest day of the year and a peak moment of light\, energy\, and life force. It symbolizes illumination\, expansion\, and the full expression of what has been growing within and around you. \nThis day is special because it represents a spiritual and energetic high point\, where clarity\, vitality\, and purpose are heightened\, making it an ideal time to focus on gratitude\, celebration\, and consciously aligning with your intentions. \nIt invites you to honor how far you’ve come\, recognize what is now fully visible in your life\, and commit to nurturing what you want to continue growing. \nAt the same time\, it’s a moment to become aware of balance understanding that after this peak\, the light slowly begins to wane\, reminding you to use this energy wisely. \nThe Summer Solstice is ultimately about stepping fully into your power\, embracing abundance\, and allowing your inner light to shine unapologetically.
URL:https://members.bfuclub.com/event/the-summer-solstice/
LOCATION:PreRecorded
END:VEVENT
BEGIN:VEVENT
DTSTART;TZID=America/Indiana/Petersburg:20260622T190000
DTEND;TZID=America/Indiana/Petersburg:20260622T203000
DTSTAMP:20260420T171954
CREATED:20260414T153610Z
LAST-MODIFIED:20260414T153610Z
UID:957-1782154800-1782160200@members.bfuclub.com
SUMMARY:Guest Speaker
DESCRIPTION:Speaker to be determined closer to date…
URL:https://members.bfuclub.com/event/guest-speaker-2/
LOCATION:Online
END:VEVENT
BEGIN:VEVENT
DTSTART;TZID=America/Indiana/Petersburg:20260624T190000
DTEND;TZID=America/Indiana/Petersburg:20260624T203000
DTSTAMP:20260420T171954
CREATED:20260414T153415Z
LAST-MODIFIED:20260414T153415Z
UID:955-1782327600-1782333000@members.bfuclub.com
SUMMARY:12 wk ReCap
DESCRIPTION:What has shifted in your life\, are you using the tools suggested to help you elevate your consciousness..
URL:https://members.bfuclub.com/event/12-wk-recap/
LOCATION:Online
END:VEVENT
BEGIN:VEVENT
DTSTART;TZID=America/Indiana/Petersburg:20260629T190000
DTEND;TZID=America/Indiana/Petersburg:20260629T200000
DTSTAMP:20260420T171954
CREATED:20260413T181053Z
LAST-MODIFIED:20260413T181053Z
UID:899-1782759600-1782763200@members.bfuclub.com
SUMMARY:Full Moon in Capricorn
DESCRIPTION:The Full Moon in Capricorn brings a grounding\, clarifying energy that highlights responsibility\, discipline\, and long-term vision. This lunation asks you to focus on your goals\, structure\, and the legacy you are building calling you to step into maturity\, accountability\, and alignment with your higher purpose. \nIt illuminates where consistent effort is needed and where you are being asked to lead your life with intention and integrity. At the same time\, it invites you to release procrastination\, fear of failure\, overworking without purpose\, and any attachment to external validation or outdated definitions of success. \nThis Full Moon is centered on mastery and alignment encouraging you to refine your path\, commit to what truly matters\, and move forward with steady confidence and empowered direction.
URL:https://members.bfuclub.com/event/full-moon-in-capricorn/
LOCATION:Bfuclub\, IN\, 34532\, United States
END:VEVENT
BEGIN:VEVENT
DTSTART;TZID=America/Indiana/Petersburg:20260629T190000
DTEND;TZID=America/Indiana/Petersburg:20260629T203000
DTSTAMP:20260420T171954
CREATED:20260414T153223Z
LAST-MODIFIED:20260414T153223Z
UID:953-1782759600-1782765000@members.bfuclub.com
SUMMARY:Jesus Talk...
DESCRIPTION:TBD…. Lets us know what you would like to dive into…
URL:https://members.bfuclub.com/event/jesus-talk-2/
LOCATION:Online
END:VEVENT
BEGIN:VEVENT
DTSTART;TZID=America/Indiana/Petersburg:20260708T190000
DTEND;TZID=America/Indiana/Petersburg:20260708T203000
DTSTAMP:20260420T171954
CREATED:20260414T181917Z
LAST-MODIFIED:20260414T181917Z
UID:983-1783537200-1783542600@members.bfuclub.com
SUMMARY:Guest Panel...
DESCRIPTION:Topic to be Determined
URL:https://members.bfuclub.com/event/guest-panel/
LOCATION:Online
END:VEVENT
BEGIN:VEVENT
DTSTART;TZID=America/Indiana/Petersburg:20260711T100000
DTEND;TZID=America/Indiana/Petersburg:20260711T140000
DTSTAMP:20260420T171954
CREATED:20260414T181633Z
LAST-MODIFIED:20260414T181633Z
UID:979-1783764000-1783778400@members.bfuclub.com
SUMMARY:Establishing Your Kingdom Workshop
DESCRIPTION:MORE TO BE ADDED…
URL:https://members.bfuclub.com/event/establishing-your-kingdom-workshop/
LOCATION:Online
END:VEVENT
BEGIN:VEVENT
DTSTART;TZID=America/Indiana/Petersburg:20260712T100000
DTEND;TZID=America/Indiana/Petersburg:20260712T140000
DTSTAMP:20260420T171954
CREATED:20260414T181729Z
LAST-MODIFIED:20260414T181729Z
UID:981-1783850400-1783864800@members.bfuclub.com
SUMMARY:Establishing Your Kingdom Workshop
DESCRIPTION:More to Be Added
URL:https://members.bfuclub.com/event/establishing-your-kingdom-workshop-2/
LOCATION:Online
END:VEVENT
BEGIN:VEVENT
DTSTART;TZID=America/Indiana/Petersburg:20260714T190000
DTEND;TZID=America/Indiana/Petersburg:20260714T200000
DTSTAMP:20260420T171954
CREATED:20260413T194857Z
LAST-MODIFIED:20260413T201409Z
UID:907-1784055600-1784059200@members.bfuclub.com
SUMMARY:Super New Moon in Cancer
DESCRIPTION:The Super New Moon in Cancer is a deeply emotional and intuitive reset centered on home\, healing\, and inner security.\nThis lunation invites you to focus on nurturing yourself\, strengthening your emotional foundations\, and creating a sense of safety within your inner and outer world. \nIt is a powerful time to set intentions around family\, emotional healing\, self-care\, and reconnecting with what truly makes you feel held and supported. \nAt the same time\, it asks you to release emotional heaviness\, past wounds\, childhood conditioning\, and protective walls that block vulnerability and connection. \nThis Super New Moon is focused on emotional rebirth and heart-centered alignment—encouraging you to return to your softness\, trust your intuition\, and build a life that feels like true emotional home.
URL:https://members.bfuclub.com/event/new-moon-in-cancer/
LOCATION:PreRecorded
END:VEVENT
BEGIN:VEVENT
DTSTART;TZID=America/Indiana/Petersburg:20260727T190000
DTEND;TZID=America/Indiana/Petersburg:20260727T200000
DTSTAMP:20260420T171954
CREATED:20260414T182510Z
LAST-MODIFIED:20260414T182510Z
UID:987-1785178800-1785182400@members.bfuclub.com
SUMMARY:Jesus Talk...
DESCRIPTION:Topic TBD…
URL:https://members.bfuclub.com/event/jesus-talk-4/
LOCATION:Online
END:VEVENT
BEGIN:VEVENT
DTSTART;TZID=America/Indiana/Petersburg:20260729T190000
DTEND;TZID=America/Indiana/Petersburg:20260729T200000
DTSTAMP:20260420T171954
CREATED:20260413T201725Z
LAST-MODIFIED:20260413T201725Z
UID:913-1785351600-1785355200@members.bfuclub.com
SUMMARY:Full Moon in Aquarius
DESCRIPTION:The Full Moon in Aquarius brings a liberating and awakening energy centered on individuality\, truth\, and collective awareness. This lunation asks you to focus on authenticity\, future vision\, and aligning with communities or paths that honor your true self without compromise.  \nIt highlights where you are ready to step outside of conformity and fully embrace your uniqueness\, even if it feels different or unconventional. At the same time\, it invites you to release people-pleasing\, fear of judgment\, outdated social conditioning\, and any emotional detachment that prevents real connection. \nThis Full Moon is focused on freedom and higher perspective encouraging you to detach from limiting expectations\, reclaim your individuality\, and step into a more aligned\, liberated version of yourself that serves both your personal truth and the greater collective.
URL:https://members.bfuclub.com/event/full-moon-in-aquarius/
LOCATION:PreRecorded
END:VEVENT
BEGIN:VEVENT
DTSTART;TZID=America/Indiana/Petersburg:20260812T190000
DTEND;TZID=America/Indiana/Petersburg:20260812T200000
DTSTAMP:20260420T171954
CREATED:20260413T202342Z
LAST-MODIFIED:20260413T202342Z
UID:915-1786561200-1786564800@members.bfuclub.com
SUMMARY:New Moon in Leo
DESCRIPTION:The New Moon in Leo  is a bold\, heart-centered reset focused on self-expression\, confidence\, creativity\, and stepping fully into your personal power. \nThis lunation invites you to focus on what lights you up\, how you want to be seen\, and where you are ready to lead with authenticity and courage. \nIt is a powerful time to set intentions around passion projects\, visibility\, joy\, and unapologetically embracing your individuality. \nAt the same time\, it asks you to release self-doubt\, fear of judgment\, comparison\, and any tendency to dim your light to make others comfortable. \nThis New Moon is focused on creative rebirth and heart activation encouraging you to own your voice\, trust your gifts\, and boldly express who you are becoming without hesitation.
URL:https://members.bfuclub.com/event/new-moon-in-leo/
LOCATION:PreRecorded
END:VEVENT
BEGIN:VEVENT
DTSTART;TZID=America/Indiana/Petersburg:20260828T190000
DTEND;TZID=America/Indiana/Petersburg:20260828T200000
DTSTAMP:20260420T171954
CREATED:20260413T202620Z
LAST-MODIFIED:20260413T202620Z
UID:917-1787943600-1787947200@members.bfuclub.com
SUMMARY:Full Moon in Pisces
DESCRIPTION:The Full Moon in Pisces is a deeply spiritual and emotional culmination centered on surrender\, intuition\, healing\, and divine connection. \nThis lunation invites you to focus on inner peace\, spiritual alignment\, compassion\, and trusting the unseen flow of life. It is a powerful time for reflection\, meditation\, creativity\, and reconnecting with your higher self and inner guidance. \nAt the same time\, it asks you to release illusions\, escapism\, emotional overwhelm\, confusion\, and attachments that cloud your clarity or keep you disconnected from reality.  \nThis Full Moon is focused on spiritual release and emotional cleansing encouraging you to let go\, forgive\, and trust the process of divine timing as you allow old cycles to dissolve with grace.
URL:https://members.bfuclub.com/event/full-moon-in-pisces/
LOCATION:PreRecorded
END:VEVENT
BEGIN:VEVENT
DTSTART;TZID=America/Indiana/Petersburg:20260910T190000
DTEND;TZID=America/Indiana/Petersburg:20260910T200000
DTSTAMP:20260420T171954
CREATED:20260413T205604Z
LAST-MODIFIED:20260413T205604Z
UID:921-1789066800-1789070400@members.bfuclub.com
SUMMARY:New Moon in Virgo
DESCRIPTION:The New Moon in Virgo is a grounded and practical reset focused on refinement\, organization\, health\, and intentional living. \nThis lunation invites you to focus on structure\, daily habits\, self-improvement\, and creating systems that support your long-term well-being and success. \nIt is a powerful time to set intentions around clarity\, productivity\, wellness\, and aligning your routines with your highest standards.  \nAt the same time\, it asks you to release perfectionism\, self-criticism\, overwhelm\, and the tendency to overanalyze or control outcomes. \nThis New Moon is focused on mindful alignment and embodied discipline—encouraging you to simplify\, recalibrate\, and commit to small\, consistent actions that bring your life into greater harmony and balance.
URL:https://members.bfuclub.com/event/new-moon-in-virgo/
LOCATION:PreRecorded
END:VEVENT
END:VCALENDAR